BEGIN:VCALENDAR
VERSION:2.0
PRODID:-//wp-events-plugin.com//7.2.3.1//EN
TZID:Europe/Berlin
X-WR-TIMEZONE:Europe/Berlin
BEGIN:VEVENT
UID:158@cityseelsorge-neu-ulm.de
DTSTART;TZID=Europe/Berlin:20260920T140000
DTEND;TZID=Europe/Berlin:20260920T153000
DTSTAMP:20251215T103448Z
URL:https://www.cityseelsorge-neu-ulm.de/events/kirchenfuehrung-in-st-joha
 nn-baptist-3/
SUMMARY:Kirchenführung in St. Johann Baptist
DESCRIPTION:\nEntdecken Sie die Kirche St. Johann Baptist neu!\n\n\n\n\n\n\
 n\n\n
ATTACH;FMTTYPE=image/jpeg:https://www.cityseelsorge-neu-ulm.de/wp-content/
 uploads/Plakat-Kirchenfuehrung-2026-e1765794827336.jpg
LOCATION:St. Johann Baptist\, Johannesplatz 1\,  Neu-Ulm\, 89231\, Deutschl
 and
X-APPLE-STRUCTURED-LOCATION;VALUE=URI;X-ADDRESS=Johannesplatz 1\,  Neu-Ulm\
 , 89231\, Deutschland;X-APPLE-RADIUS=100;X-TITLE=St. Johann Baptist:geo:0,
 0
END:VEVENT
BEGIN:VTIMEZONE
TZID:Europe/Berlin
X-LIC-LOCATION:Europe/Berlin
BEGIN:DAYLIGHT
DTSTART:20260329T030000
TZOFFSETFROM:+0100
TZOFFSETTO:+0200
TZNAME:CEST
END:DAYLIGHT
END:VTIMEZONE
END:VCALENDAR