BEGIN:VCALENDAR
VERSION:2.0
PRODID:-//wp-events-plugin.com//7.2.3.1//EN
TZID:Europe/Berlin
X-WR-TIMEZONE:Europe/Berlin
BEGIN:VEVENT
UID:168@cityseelsorge-neu-ulm.de
DTSTART;TZID=Europe/Berlin:20260517T120000
DTEND;TZID=Europe/Berlin:20260517T160000
DTSTAMP:20260326T093651Z
URL:https://www.cityseelsorge-neu-ulm.de/events/motorradgottesdienst-mit-s
 egnung/
SUMMARY:Motorradgottesdienst mit Segnung
DESCRIPTION:\n\n
ATTACH;FMTTYPE=image/jpeg:https://www.cityseelsorge-neu-ulm.de/wp-content/
 uploads/Motorradsegnung_Plakat.png
LOCATION:Fun Biker Neu-Ulm e.V.\, Illerstraße 197\, Ulm\, 89079\, Deutschl
 and
X-APPLE-STRUCTURED-LOCATION;VALUE=URI;X-ADDRESS=Illerstraße 197\, Ulm\, 89
 079\, Deutschland;X-APPLE-RADIUS=100;X-TITLE=Fun Biker Neu-Ulm e.V.:geo:0,
 0
END:VEVENT
BEGIN:VTIMEZONE
TZID:Europe/Berlin
X-LIC-LOCATION:Europe/Berlin
BEGIN:DAYLIGHT
DTSTART:20260329T030000
TZOFFSETFROM:+0100
TZOFFSETTO:+0200
TZNAME:CEST
END:DAYLIGHT
END:VTIMEZONE
END:VCALENDAR