BEGIN:VCALENDAR
VERSION:2.0
PRODID:-//wp-events-plugin.com//7.2.3.1//EN
TZID:Europe/Berlin
X-WR-TIMEZONE:Europe/Berlin
BEGIN:VEVENT
UID:172@cityseelsorge-neu-ulm.de
DTSTART;TZID=Europe/Berlin:20260602T200000
DTEND;TZID=Europe/Berlin:20260602T210000
DTSTAMP:20260311T153351Z
URL:https://www.cityseelsorge-neu-ulm.de/events/neu-ulmer-stadtoase-15/
SUMMARY:Neu-Ulmer Stadtoase
DESCRIPTION:\nYoga für Körper\, Geist und Seele\n\n\n\nAn jedem ersten Di
 enstag im Monat lädt die Neu-Ulmer Stadtoase um 20 Uhr dazu ein\, einen M
 oment der Ruhe mitten im Alltag zu finden. In den liebevoll angeleiteten Y
 ogastunden von Karoline Wagemann-Hofer entsteht ein Raum\, in dem bewusste
 s Atmen\, sanfte Bewegung und innere Balance im Mittelpunkt stehen.\n\n\n\
 nGönnen Sie sich eine wohltuende Pause\, stärken Sie Ihren Körper und k
 ommen Sie im gemeinsamen Üben wieder bei sich selbst an – eine kleine A
 uszeit\, die Jedem guttut. \n\n\n\nVerschaffen Sie sich gern einen kleinen
  Einblick\n\n\n\nRückblick – cityseelsorge neu-ulm\n\n\n\n\n\n\n\n\nZu 
 der Yogastunde bitte eine eigene Gymnastik- oder Sportmatte mitbringen.Das
  Angebot ist kostenlos. Wir freuen uns über Spenden.\n\n\n\n\n\n\n\n\n\n\
 n\n\n\n
ATTACH;FMTTYPE=image/jpeg:https://www.cityseelsorge-neu-ulm.de/wp-content/
 uploads/Juni-Plakat-Neu-Ulmer-Stadtoase-509x720-1-e1720688698775.jpg
CATEGORIES:Freizeit erleben
LOCATION:Johannessaal\, Johannesplatz 4\, Neu-Ulm\, 89231\, Deutschland
X-APPLE-STRUCTURED-LOCATION;VALUE=URI;X-ADDRESS=Johannesplatz 4\, Neu-Ulm\,
  89231\, Deutschland;X-APPLE-RADIUS=100;X-TITLE=Johannessaal:geo:0,0
END:VEVENT
BEGIN:VTIMEZONE
TZID:Europe/Berlin
X-LIC-LOCATION:Europe/Berlin
BEGIN:DAYLIGHT
DTSTART:20260329T030000
TZOFFSETFROM:+0100
TZOFFSETTO:+0200
TZNAME:CEST
END:DAYLIGHT
END:VTIMEZONE
END:VCALENDAR