BEGIN:VCALENDAR
VERSION:2.0
PRODID:-//wp-events-plugin.com//7.2.3.1//EN
TZID:Europe/Berlin
X-WR-TIMEZONE:Europe/Berlin
BEGIN:VEVENT
UID:176@cityseelsorge-neu-ulm.de
DTSTART;TZID=Europe/Berlin:20260621T000000
DTEND;TZID=Europe/Berlin:20260621T000000
DTSTAMP:20260311T154052Z
URL:https://www.cityseelsorge-neu-ulm.de/events/open-air-gottesdienst-im-b
 otanischen-garten-ulm-2/
SUMMARY:Open-Air Gottesdienst im botanischen Garten Ulm
DESCRIPTION:
END:VEVENT
BEGIN:VTIMEZONE
TZID:Europe/Berlin
X-LIC-LOCATION:Europe/Berlin
BEGIN:DAYLIGHT
DTSTART:20260329T030000
TZOFFSETFROM:+0100
TZOFFSETTO:+0200
TZNAME:CEST
END:DAYLIGHT
END:VTIMEZONE
END:VCALENDAR